BEGIN:VCALENDAR
VERSION:2.0
PRODID:-//kasjogarden.se - ECPv6.15.20//NONSGML v1.0//EN
CALSCALE:GREGORIAN
METHOD:PUBLISH
X-ORIGINAL-URL:https://kasjogarden.se
X-WR-CALDESC:Händelser för kasjogarden.se
REFRESH-INTERVAL;VALUE=DURATION:PT1H
X-Robots-Tag:noindex
X-PUBLISHED-TTL:PT1H
BEGIN:VTIMEZONE
TZID:Europe/Paris
BEGIN:DAYLIGHT
TZOFFSETFROM:+0100
TZOFFSETTO:+0200
TZNAME:CEST
DTSTART:20250330T010000
END:DAYLIGHT
BEGIN:STANDARD
TZOFFSETFROM:+0200
TZOFFSETTO:+0100
TZNAME:CET
DTSTART:20251026T010000
END:STANDARD
BEGIN:DAYLIGHT
TZOFFSETFROM:+0100
TZOFFSETTO:+0200
TZNAME:CEST
DTSTART:20260329T010000
END:DAYLIGHT
BEGIN:STANDARD
TZOFFSETFROM:+0200
TZOFFSETTO:+0100
TZNAME:CET
DTSTART:20261025T010000
END:STANDARD
BEGIN:DAYLIGHT
TZOFFSETFROM:+0100
TZOFFSETTO:+0200
TZNAME:CEST
DTSTART:20270328T010000
END:DAYLIGHT
BEGIN:STANDARD
TZOFFSETFROM:+0200
TZOFFSETTO:+0100
TZNAME:CET
DTSTART:20271031T010000
END:STANDARD
END:VTIMEZONE
BEGIN:VEVENT
DTSTART;TZID=Europe/Paris:20260504T093000
DTEND;TZID=Europe/Paris:20260504T123000
DTSTAMP:20260421T133447
CREATED:20251204T150909Z
LAST-MODIFIED:20251204T150909Z
UID:2537-1777887000-1777897800@kasjogarden.se
SUMMARY:Akvarell / akrylmålning
DESCRIPTION:Välkomna till en kreativ och rofylld stund där vi testar exempelvis akvarell\, akryl eller annat som vi tillsammans kommer på efterhand.
URL:https://kasjogarden.se/event/akvarell-akrylmalning-49/
ATTACH;FMTTYPE=image/png:https://kasjogarden.se/wp-content/uploads/2022/12/Kreativ-verktad_2.png
END:VEVENT
BEGIN:VEVENT
DTSTART;TZID=Europe/Paris:20260504T183000
DTEND;TZID=Europe/Paris:20260504T203000
DTSTAMP:20260421T133447
CREATED:20251204T190830Z
LAST-MODIFIED:20251204T190830Z
UID:2580-1777919400-1777926600@kasjogarden.se
SUMMARY:Stickcafé
DESCRIPTION:Välkommen att sticka\, virka\, brodera\, laga kläder\, helt enkelt handarbeta med vad man vill. Vi hjälps åt om maskorna trasslar.
URL:https://kasjogarden.se/event/stickcafe-52/
ATTACH;FMTTYPE=image/png:https://kasjogarden.se/wp-content/uploads/2022/03/Stickning-cykel.png
END:VEVENT
BEGIN:VEVENT
DTSTART;TZID=Europe/Paris:20260505T094500
DTEND;TZID=Europe/Paris:20260505T103000
DTSTAMP:20260421T133447
CREATED:20251209T134349Z
LAST-MODIFIED:20251209T134349Z
UID:2864-1777974300-1777977000@kasjogarden.se
SUMMARY:NatureWorkout Barnvagn
DESCRIPTION:En anpassad träning för både mammor och  pappor som vill träna med sina barn och även kunna ta med barnvagnen.
URL:https://kasjogarden.se/event/natureworkout-barnvagn-15/
ATTACH;FMTTYPE=image/jpeg:https://kasjogarden.se/wp-content/uploads/2025/12/Gruppbild_1-scaled.jpeg
END:VEVENT
BEGIN:VEVENT
DTSTART;TZID=Europe/Paris:20260505T110000
DTEND;TZID=Europe/Paris:20260505T133000
DTSTAMP:20260421T133447
CREATED:20251204T194419Z
LAST-MODIFIED:20260408T152936Z
UID:2623-1777978800-1777987800@kasjogarden.se
SUMMARY:Sopplunch
DESCRIPTION:Dagens: Sparrissoppa  Dagens kaka: Rabarberkaka. Välkomna till en god och värmande soppa i trevlig gemenskap. Utöver soppa ingår bröd\, färskost\, kaffe\, kaka och skratt! Pris 80 kr.
URL:https://kasjogarden.se/event/sopplunch-53/
ATTACH;FMTTYPE=image/jpeg:https://kasjogarden.se/wp-content/uploads/2022/03/Sopplunch_2.jpg
END:VEVENT
BEGIN:VEVENT
DTSTART;TZID=Europe/Paris:20260506T160000
DTEND;TZID=Europe/Paris:20260506T170000
DTSTAMP:20260421T133447
CREATED:20251208T195949Z
LAST-MODIFIED:20251208T195949Z
UID:2821-1778083200-1778086800@kasjogarden.se
SUMMARY:Seniorgympa
DESCRIPTION:Bli starkare och förbättra balans\, kroppskontroll och kondition tillsammans med andra seniorer!
URL:https://kasjogarden.se/event/seniorgympa-15/
ATTACH;FMTTYPE=image/jpeg:https://kasjogarden.se/wp-content/uploads/2025/12/Boll_1.jpeg
END:VEVENT
BEGIN:VEVENT
DTSTART;TZID=Europe/Paris:20260506T171500
DTEND;TZID=Europe/Paris:20260506T180000
DTSTAMP:20260421T133447
CREATED:20251208T192119Z
LAST-MODIFIED:20251208T192119Z
UID:2779-1778087700-1778090400@kasjogarden.se
SUMMARY:NatureWorkout Teens
DESCRIPTION:En spännande träningsform för ungdomar mellan 11-17 år. Under passen tränar vi styrka\, kondition\, explosivitet\, balans och kroppskontroll. Vi är en härlig grupp och vi är både ute och inne.
URL:https://kasjogarden.se/event/natureworkout-teens-15/
ATTACH;FMTTYPE=image/jpeg:https://kasjogarden.se/wp-content/uploads/2025/12/Framfall-scaled.jpeg
END:VEVENT
BEGIN:VEVENT
DTSTART;TZID=Europe/Paris:20260506T181500
DTEND;TZID=Europe/Paris:20260506T204500
DTSTAMP:20260421T133447
CREATED:20251204T210916Z
LAST-MODIFIED:20251204T210916Z
UID:2701-1778091300-1778100300@kasjogarden.se
SUMMARY:Bridge\, spelträning
DESCRIPTION:En mötesplats för dig som gått kurs nyss eller tidigare och vill spelträna tillsammans med andra. Möjlighet frågor till handledare under hela spelträningen.
URL:https://kasjogarden.se/event/bridge-speltraning-52/
ATTACH;FMTTYPE=image/jpeg:https://kasjogarden.se/wp-content/uploads/2025/07/Sept-25_3.jpg
END:VEVENT
BEGIN:VEVENT
DTSTART;TZID=Europe/Paris:20260511T093000
DTEND;TZID=Europe/Paris:20260511T123000
DTSTAMP:20260421T133447
CREATED:20251204T151010Z
LAST-MODIFIED:20251204T151010Z
UID:2539-1778491800-1778502600@kasjogarden.se
SUMMARY:Akvarell / akrylmålning
DESCRIPTION:Välkomna till en kreativ och rofylld stund där vi testar exempelvis akvarell\, akryl eller annat som vi tillsammans kommer på efterhand
URL:https://kasjogarden.se/event/akvarell-akrylmalning-50/
ATTACH;FMTTYPE=image/png:https://kasjogarden.se/wp-content/uploads/2022/12/Kreativ-verktad.png
END:VEVENT
BEGIN:VEVENT
DTSTART;TZID=Europe/Paris:20260511T183000
DTEND;TZID=Europe/Paris:20260511T203000
DTSTAMP:20260421T133447
CREATED:20251204T190936Z
LAST-MODIFIED:20251204T190936Z
UID:2582-1778524200-1778531400@kasjogarden.se
SUMMARY:Stickcafé
DESCRIPTION:Välkommen att sticka\, virka\, brodera\, laga kläder\, helt enkelt handarbeta med vad man vill. Vi hjälps åt om maskorna trasslar.
URL:https://kasjogarden.se/event/stickcafe-53/
ATTACH;FMTTYPE=image/png:https://kasjogarden.se/wp-content/uploads/2025/12/Citroner.png
END:VEVENT
BEGIN:VEVENT
DTSTART;TZID=Europe/Paris:20260512T094500
DTEND;TZID=Europe/Paris:20260512T103000
DTSTAMP:20260421T133447
CREATED:20251209T134500Z
LAST-MODIFIED:20251209T134500Z
UID:2866-1778579100-1778581800@kasjogarden.se
SUMMARY:NatureWorkout Barnvagn
DESCRIPTION:En anpassad träning för både mammor och  pappor som vill träna med sina barn och även kunna ta med barnvagnen.
URL:https://kasjogarden.se/event/natureworkout-barnvagn-16/
ATTACH;FMTTYPE=image/jpeg:https://kasjogarden.se/wp-content/uploads/2025/12/Jagarvila_1-scaled.jpeg
END:VEVENT
BEGIN:VEVENT
DTSTART;TZID=Europe/Paris:20260512T110000
DTEND;TZID=Europe/Paris:20260512T133000
DTSTAMP:20260421T133447
CREATED:20251204T194518Z
LAST-MODIFIED:20260408T152845Z
UID:2625-1778583600-1778592600@kasjogarden.se
SUMMARY:Sopplunch
DESCRIPTION:Dagens: Spansk potatis & mandel soppa  Dagens kaka: Överraskning. Välkomna till en god och värmande soppa i trevlig gemenskap. Utöver soppa ingår bröd\, färskost\, kaffe\, kaka och skratt! Pris 80 kr.
URL:https://kasjogarden.se/event/sopplunch-54/
ATTACH;FMTTYPE=image/jpeg:https://kasjogarden.se/wp-content/uploads/2022/06/Sopplunch_1.jpg
END:VEVENT
BEGIN:VEVENT
DTSTART;TZID=Europe/Paris:20260513T160000
DTEND;TZID=Europe/Paris:20260513T170000
DTSTAMP:20260421T133447
CREATED:20251208T200103Z
LAST-MODIFIED:20251208T200103Z
UID:2823-1778688000-1778691600@kasjogarden.se
SUMMARY:Seniorgympa
DESCRIPTION:Bli starkare och förbättra balans\, kroppskontroll och kondition tillsammans med andra seniorer!
URL:https://kasjogarden.se/event/seniorgympa-16/
ATTACH;FMTTYPE=image/jpeg:https://kasjogarden.se/wp-content/uploads/2025/12/Dips_1-scaled.jpeg
END:VEVENT
BEGIN:VEVENT
DTSTART;TZID=Europe/Paris:20260513T171500
DTEND;TZID=Europe/Paris:20260513T180000
DTSTAMP:20260421T133447
CREATED:20251208T192246Z
LAST-MODIFIED:20251208T192246Z
UID:2781-1778692500-1778695200@kasjogarden.se
SUMMARY:NatureWorkout Teens
DESCRIPTION:En spännande träningsform för ungdomar mellan 11-17 år. Under passen tränar vi styrka\, kondition\, explosivitet\, balans och kroppskontroll. Vi är en härlig grupp och vi är både ute och inne.
URL:https://kasjogarden.se/event/natureworkout-teens-16/
ATTACH;FMTTYPE=image/jpeg:https://kasjogarden.se/wp-content/uploads/2025/12/Fritt_1-scaled.jpeg
END:VEVENT
BEGIN:VEVENT
DTSTART;TZID=Europe/Paris:20260513T181500
DTEND;TZID=Europe/Paris:20260513T204500
DTSTAMP:20260421T133447
CREATED:20251204T211018Z
LAST-MODIFIED:20251204T211018Z
UID:2703-1778696100-1778705100@kasjogarden.se
SUMMARY:Bridge\, spelträning
DESCRIPTION:En mötesplats för dig som gått kurs nyss eller tidigare och vill spelträna tillsammans med andra. Möjlighet frågor till handledare under hela spelträningen.
URL:https://kasjogarden.se/event/bridge-speltraning-53/
ATTACH;FMTTYPE=image/jpeg:https://kasjogarden.se/wp-content/uploads/2025/07/Sept-25_2.jpg
END:VEVENT
BEGIN:VEVENT
DTSTART;TZID=Europe/Paris:20260513T183000
DTEND;TZID=Europe/Paris:20260513T193000
DTSTAMP:20260421T133447
CREATED:20251209T140127Z
LAST-MODIFIED:20251209T140127Z
UID:2882-1778697000-1778700600@kasjogarden.se
SUMMARY:NatureWorkout PWRX - Strength&Endurance
DESCRIPTION:Passen hålls utomhus och vi jobbar i långa intervaller med funktionella övningar och redskap. Perfekt för dig som vill ha en ny utmaning\, att bli starkare\, snabbare och mer uthållig! (oavsett tidigare träningsvana)
URL:https://kasjogarden.se/event/natureworkout-pwrx-strengthendurance-4/
ATTACH;FMTTYPE=image/jpeg:https://kasjogarden.se/wp-content/uploads/2025/12/Rep_1.jpeg
END:VEVENT
BEGIN:VEVENT
DTSTART;TZID=Europe/Paris:20260518T093000
DTEND;TZID=Europe/Paris:20260518T123000
DTSTAMP:20260421T133447
CREATED:20251204T151501Z
LAST-MODIFIED:20251204T151501Z
UID:2543-1779096600-1779107400@kasjogarden.se
SUMMARY:Akvarell / akrylmålning
DESCRIPTION:Välkomna till en kreativ och rofylld stund där vi testar exempelvis akvarell\, akryl eller annat som vi tillsammans kommer på efterhand.
URL:https://kasjogarden.se/event/akvarell-akrylmalning-51/
ATTACH;FMTTYPE=image/png:https://kasjogarden.se/wp-content/uploads/2022/12/Kreativ-verktad_2.png
END:VEVENT
BEGIN:VEVENT
DTSTART;TZID=Europe/Paris:20260518T183000
DTEND;TZID=Europe/Paris:20260518T203000
DTSTAMP:20260421T133447
CREATED:20251204T191048Z
LAST-MODIFIED:20251204T191048Z
UID:2584-1779129000-1779136200@kasjogarden.se
SUMMARY:Stickcafé
DESCRIPTION:Välkommen att sticka\, virka\, brodera\, laga kläder\, helt enkelt handarbeta med vad man vill. Vi hjälps åt om maskorna trasslar.
URL:https://kasjogarden.se/event/stickcafe-54/
ATTACH;FMTTYPE=image/jpeg:https://kasjogarden.se/wp-content/uploads/2022/03/Stickning-tecknad.jpg
END:VEVENT
BEGIN:VEVENT
DTSTART;TZID=Europe/Paris:20260519T094500
DTEND;TZID=Europe/Paris:20260519T103000
DTSTAMP:20260421T133447
CREATED:20251209T134611Z
LAST-MODIFIED:20251209T134611Z
UID:2868-1779183900-1779186600@kasjogarden.se
SUMMARY:NatureWorkout Barnvagn
DESCRIPTION:En anpassad träning för både mammor och  pappor som vill träna med sina barn och även kunna ta med barnvagnen.
URL:https://kasjogarden.se/event/natureworkout-barnvagn-17/
ATTACH;FMTTYPE=image/jpeg:https://kasjogarden.se/wp-content/uploads/2025/12/Diagonalt_1-scaled.jpeg
END:VEVENT
BEGIN:VEVENT
DTSTART;TZID=Europe/Paris:20260519T110000
DTEND;TZID=Europe/Paris:20260519T133000
DTSTAMP:20260421T133447
CREATED:20251204T194616Z
LAST-MODIFIED:20260408T152738Z
UID:2627-1779188400-1779197400@kasjogarden.se
SUMMARY:Sopplunch
DESCRIPTION:Dagens: Minestrone  Dagens kaka: Syltrutor. Välkomna till en god och värmande soppa i trevlig gemenskap. Utöver soppa ingår bröd\, färskost\, kaffe\, kaka och skratt! Pris 80 kr.
URL:https://kasjogarden.se/event/sopplunch-55/
ATTACH;FMTTYPE=image/jpeg:https://kasjogarden.se/wp-content/uploads/2022/03/Sopplunch_2.jpg
END:VEVENT
BEGIN:VEVENT
DTSTART;TZID=Europe/Paris:20260519T110000
DTEND;TZID=Europe/Paris:20260519T133000
DTSTAMP:20260421T133447
CREATED:20251212T135140Z
LAST-MODIFIED:20251212T135525Z
UID:2908-1779188400-1779197400@kasjogarden.se
SUMMARY:Närhälsan Öjersjö vårdcentral
DESCRIPTION:Mottagning för medicinska frågor på Mötesplats Kåsjögården; Hud/prickmottagning\, läkare\, för alla listade på vårdcentralen. Även distriktssköterska på plats.
URL:https://kasjogarden.se/event/narhalsan-ojersjo-vardcentral-5/
ATTACH;FMTTYPE=image/png:https://kasjogarden.se/wp-content/uploads/2025/12/Narhalsan.png
END:VEVENT
BEGIN:VEVENT
DTSTART;TZID=Europe/Paris:20260520T160000
DTEND;TZID=Europe/Paris:20260520T170000
DTSTAMP:20260421T133447
CREATED:20251208T200157Z
LAST-MODIFIED:20251208T200157Z
UID:2825-1779292800-1779296400@kasjogarden.se
SUMMARY:Seniorgympa
DESCRIPTION:Bli starkare och förbättra balans\, kroppskontroll och kondition tillsammans med andra seniorer!
URL:https://kasjogarden.se/event/seniorgympa-17/
ATTACH;FMTTYPE=image/jpeg:https://kasjogarden.se/wp-content/uploads/2025/12/Hantlar_1.jpeg
END:VEVENT
BEGIN:VEVENT
DTSTART;TZID=Europe/Paris:20260520T171500
DTEND;TZID=Europe/Paris:20260520T180000
DTSTAMP:20260421T133447
CREATED:20251208T192343Z
LAST-MODIFIED:20251208T192343Z
UID:2783-1779297300-1779300000@kasjogarden.se
SUMMARY:NatureWorkout Teens
DESCRIPTION:En spännande träningsform för ungdomar mellan 11-17 år. Under passen tränar vi styrka\, kondition\, explosivitet\, balans och kroppskontroll. Vi är en härlig grupp och vi är både ute och inne.
URL:https://kasjogarden.se/event/natureworkout-teens-17/
ATTACH;FMTTYPE=image/jpeg:https://kasjogarden.se/wp-content/uploads/2025/12/Akrobat_1-scaled.jpeg
END:VEVENT
BEGIN:VEVENT
DTSTART;TZID=Europe/Paris:20260520T181500
DTEND;TZID=Europe/Paris:20260520T204500
DTSTAMP:20260421T133447
CREATED:20251204T211118Z
LAST-MODIFIED:20251204T211118Z
UID:2705-1779300900-1779309900@kasjogarden.se
SUMMARY:Bridge\, spelträning
DESCRIPTION:En mötesplats för dig som gått kurs nyss eller tidigare och vill spelträna tillsammans med andra. Möjlighet frågor till handledare under hela spelträningen.
URL:https://kasjogarden.se/event/bridge-speltraning-54/
ATTACH;FMTTYPE=image/jpeg:https://kasjogarden.se/wp-content/uploads/2025/07/Sept-25_2.jpg
END:VEVENT
BEGIN:VEVENT
DTSTART;TZID=Europe/Paris:20260520T183000
DTEND;TZID=Europe/Paris:20260520T193000
DTSTAMP:20260421T133447
CREATED:20251209T140256Z
LAST-MODIFIED:20251209T140256Z
UID:2884-1779301800-1779305400@kasjogarden.se
SUMMARY:NatureWorkout PWRX - Strength&Endurance
DESCRIPTION:Passen hålls utomhus och vi jobbar i långa intervaller med funktionella övningar och redskap. Perfekt för dig som vill ha en ny utmaning\, att bli starkare\, snabbare och mer uthållig! (oavsett tidigare träningsvana)
URL:https://kasjogarden.se/event/natureworkout-pwrx-strengthendurance-5/
ATTACH;FMTTYPE=image/jpeg:https://kasjogarden.se/wp-content/uploads/2025/04/Strength-Endurance_1-scaled.jpg
END:VEVENT
BEGIN:VEVENT
DTSTART;TZID=Europe/Paris:20260521T140000
DTEND;TZID=Europe/Paris:20260521T153000
DTSTAMP:20260421T133447
CREATED:20251205T083903Z
LAST-MODIFIED:20251205T083903Z
UID:2721-1779372000-1779377400@kasjogarden.se
SUMMARY:Bokcafé
DESCRIPTION:Vill du komma igång och läsa eller saknar att få prata om det du läst? Vi väljer tillsammans ny och äldre  skönlitteratur och du skaffar böckerna själv.
URL:https://kasjogarden.se/event/bokcafe-17/
ATTACH;FMTTYPE=image/jpeg:https://kasjogarden.se/wp-content/uploads/2024/12/bokcirkel_2.jpg
END:VEVENT
BEGIN:VEVENT
DTSTART;TZID=Europe/Paris:20260525T183000
DTEND;TZID=Europe/Paris:20260525T203000
DTSTAMP:20260421T133447
CREATED:20251204T191155Z
LAST-MODIFIED:20251204T191155Z
UID:2586-1779733800-1779741000@kasjogarden.se
SUMMARY:Stickcafé
DESCRIPTION:Välkommen att sticka\, virka\, brodera\, laga kläder\, helt enkelt handarbeta med vad man vill. Vi hjälps åt om maskorna trasslar.
URL:https://kasjogarden.se/event/stickcafe-55/
ATTACH;FMTTYPE=image/jpeg:https://kasjogarden.se/wp-content/uploads/2022/03/Stickning-tecknad.jpg
END:VEVENT
BEGIN:VEVENT
DTSTART;TZID=Europe/Paris:20260526T094500
DTEND;TZID=Europe/Paris:20260526T103000
DTSTAMP:20260421T133447
CREATED:20251209T134711Z
LAST-MODIFIED:20251209T134711Z
UID:2870-1779788700-1779791400@kasjogarden.se
SUMMARY:NatureWorkout Barnvagn
DESCRIPTION:En anpassad träning för både mammor och  pappor som vill träna med sina barn och även kunna ta med barnvagnen.
URL:https://kasjogarden.se/event/natureworkout-barnvagn-18/
ATTACH;FMTTYPE=image/jpeg:https://kasjogarden.se/wp-content/uploads/2025/12/Gruppbild_1-scaled.jpeg
END:VEVENT
BEGIN:VEVENT
DTSTART;TZID=Europe/Paris:20260526T110000
DTEND;TZID=Europe/Paris:20260526T133000
DTSTAMP:20260421T133447
CREATED:20251204T194717Z
LAST-MODIFIED:20260408T152638Z
UID:2629-1779793200-1779802200@kasjogarden.se
SUMMARY:Sopplunch
DESCRIPTION:Dagens: Grön ärtsoppa Dagens kaka: Överraskning. Välkomna till en god och värmande soppa i trevlig gemenskap. Utöver soppa ingår bröd\, färskost\, kaffe\, kaka och skratt! Pris 80 kr.
URL:https://kasjogarden.se/event/sopplunch-56/
ATTACH;FMTTYPE=image/jpeg:https://kasjogarden.se/wp-content/uploads/2022/06/Sopplunch_1.jpg
END:VEVENT
BEGIN:VEVENT
DTSTART;TZID=Europe/Paris:20260527T160000
DTEND;TZID=Europe/Paris:20260527T170000
DTSTAMP:20260421T133447
CREATED:20251208T200328Z
LAST-MODIFIED:20251208T200328Z
UID:2827-1779897600-1779901200@kasjogarden.se
SUMMARY:Seniorgympa
DESCRIPTION:Bli starkare och förbättra balans\, kroppskontroll och kondition tillsammans med andra seniorer!
URL:https://kasjogarden.se/event/seniorgympa-18/
ATTACH;FMTTYPE=image/jpeg:https://kasjogarden.se/wp-content/uploads/2025/12/Sidoplanka_1-scaled.jpeg
END:VEVENT
BEGIN:VEVENT
DTSTART;TZID=Europe/Paris:20260527T171500
DTEND;TZID=Europe/Paris:20260527T180000
DTSTAMP:20260421T133447
CREATED:20251208T192456Z
LAST-MODIFIED:20251208T192456Z
UID:2785-1779902100-1779904800@kasjogarden.se
SUMMARY:NatureWorkout Teens
DESCRIPTION:En spännande träningsform för ungdomar mellan 11-17 år. Under passen tränar vi styrka\, kondition\, explosivitet\, balans och kroppskontroll. Vi är en härlig grupp och vi är både ute och inne.
URL:https://kasjogarden.se/event/natureworkout-teens-18/
ATTACH;FMTTYPE=image/jpeg:https://kasjogarden.se/wp-content/uploads/2025/12/Fritt_1-scaled.jpeg
END:VEVENT
END:VCALENDAR