BEGIN:VCALENDAR
VERSION:2.0
PRODID:-//kasjogarden.se - ECPv6.15.20//NONSGML v1.0//EN
CALSCALE:GREGORIAN
METHOD:PUBLISH
X-WR-CALNAME:kasjogarden.se
X-ORIGINAL-URL:https://kasjogarden.se
X-WR-CALDESC:Händelser för kasjogarden.se
REFRESH-INTERVAL;VALUE=DURATION:PT1H
X-Robots-Tag:noindex
X-PUBLISHED-TTL:PT1H
BEGIN:VTIMEZONE
TZID:Europe/Paris
BEGIN:DAYLIGHT
TZOFFSETFROM:+0100
TZOFFSETTO:+0200
TZNAME:CEST
DTSTART:20250330T010000
END:DAYLIGHT
BEGIN:STANDARD
TZOFFSETFROM:+0200
TZOFFSETTO:+0100
TZNAME:CET
DTSTART:20251026T010000
END:STANDARD
BEGIN:DAYLIGHT
TZOFFSETFROM:+0100
TZOFFSETTO:+0200
TZNAME:CEST
DTSTART:20260329T010000
END:DAYLIGHT
BEGIN:STANDARD
TZOFFSETFROM:+0200
TZOFFSETTO:+0100
TZNAME:CET
DTSTART:20261025T010000
END:STANDARD
BEGIN:DAYLIGHT
TZOFFSETFROM:+0100
TZOFFSETTO:+0200
TZNAME:CEST
DTSTART:20270328T010000
END:DAYLIGHT
BEGIN:STANDARD
TZOFFSETFROM:+0200
TZOFFSETTO:+0100
TZNAME:CET
DTSTART:20271031T010000
END:STANDARD
END:VTIMEZONE
BEGIN:VEVENT
DTSTART;TZID=Europe/Paris:20260422T160000
DTEND;TZID=Europe/Paris:20260422T170000
DTSTAMP:20260422T122903
CREATED:20251208T195459Z
LAST-MODIFIED:20251208T195632Z
UID:2815-1776873600-1776877200@kasjogarden.se
SUMMARY:Seniorgympa
DESCRIPTION:Bli starkare och förbättra balans\, kroppskontroll och kondition tillsammans med andra seniorer!
URL:https://kasjogarden.se/event/seniorgympa-13/
ATTACH;FMTTYPE=image/jpeg:https://kasjogarden.se/wp-content/uploads/2025/12/Hantlar_1.jpeg
END:VEVENT
BEGIN:VEVENT
DTSTART;TZID=Europe/Paris:20260422T171500
DTEND;TZID=Europe/Paris:20260422T180000
DTSTAMP:20260422T122903
CREATED:20251208T191655Z
LAST-MODIFIED:20251208T191817Z
UID:2774-1776878100-1776880800@kasjogarden.se
SUMMARY:NatureWorkout Teens
DESCRIPTION:En spännande träningsform för ungdomar mellan 11-17 år. Under passen tränar vi styrka\, kondition\, explosivitet\, balans och kroppskontroll. Vi är en härlig grupp och vi är både ute och inne.
URL:https://kasjogarden.se/event/natureworkout-teens-13/
ATTACH;FMTTYPE=image/jpeg:https://kasjogarden.se/wp-content/uploads/2025/12/Fritt_1-scaled.jpeg
END:VEVENT
BEGIN:VEVENT
DTSTART;TZID=Europe/Paris:20260422T181500
DTEND;TZID=Europe/Paris:20260422T204500
DTSTAMP:20260422T122903
CREATED:20251204T210702Z
LAST-MODIFIED:20251204T210702Z
UID:2697-1776881700-1776890700@kasjogarden.se
SUMMARY:Bridge\, spelträning
DESCRIPTION:En mötesplats för dig som gått kurs nyss eller tidigare och vill spelträna tillsammans med andra. Möjlighet frågor till handledare under hela spelträningen.
URL:https://kasjogarden.se/event/bridge-speltraning-50/
ATTACH;FMTTYPE=image/jpeg:https://kasjogarden.se/wp-content/uploads/2025/09/Bridgeganget-25.jpg
END:VEVENT
BEGIN:VEVENT
DTSTART;TZID=Europe/Paris:20260422T183000
DTEND;TZID=Europe/Paris:20260422T193000
DTSTAMP:20260422T122903
CREATED:20251209T135432Z
LAST-MODIFIED:20251209T135432Z
UID:2875-1776882600-1776886200@kasjogarden.se
SUMMARY:NatureWorkout PWRX - Strength&Endurance
DESCRIPTION:Passen hålls utomhus och vi jobbar i långa intervaller med funktionella övningar och redskap. Perfekt för dig som vill ha en ny utmaning\, att bli starkare\, snabbare och mer uthållig! (oavsett tidigare träningsvana)
URL:https://kasjogarden.se/event/natureworkout-pwrx-strengthendurance/
ATTACH;FMTTYPE=image/jpeg:https://kasjogarden.se/wp-content/uploads/2025/12/Allman-bild-kvall_2-scaled.jpeg
END:VEVENT
END:VCALENDAR