BEGIN:VCALENDAR
VERSION:2.0
PRODID:-//kasjogarden.se - ECPv6.15.20//NONSGML v1.0//EN
CALSCALE:GREGORIAN
METHOD:PUBLISH
X-WR-CALNAME:kasjogarden.se
X-ORIGINAL-URL:https://kasjogarden.se
X-WR-CALDESC:Händelser för kasjogarden.se
REFRESH-INTERVAL;VALUE=DURATION:PT1H
X-Robots-Tag:noindex
X-PUBLISHED-TTL:PT1H
BEGIN:VTIMEZONE
TZID:Europe/Paris
BEGIN:DAYLIGHT
TZOFFSETFROM:+0100
TZOFFSETTO:+0200
TZNAME:CEST
DTSTART:20250330T010000
END:DAYLIGHT
BEGIN:STANDARD
TZOFFSETFROM:+0200
TZOFFSETTO:+0100
TZNAME:CET
DTSTART:20251026T010000
END:STANDARD
BEGIN:DAYLIGHT
TZOFFSETFROM:+0100
TZOFFSETTO:+0200
TZNAME:CEST
DTSTART:20260329T010000
END:DAYLIGHT
BEGIN:STANDARD
TZOFFSETFROM:+0200
TZOFFSETTO:+0100
TZNAME:CET
DTSTART:20261025T010000
END:STANDARD
BEGIN:DAYLIGHT
TZOFFSETFROM:+0100
TZOFFSETTO:+0200
TZNAME:CEST
DTSTART:20270328T010000
END:DAYLIGHT
BEGIN:STANDARD
TZOFFSETFROM:+0200
TZOFFSETTO:+0100
TZNAME:CET
DTSTART:20271031T010000
END:STANDARD
END:VTIMEZONE
BEGIN:VEVENT
DTSTART;TZID=Europe/Paris:20260421T094500
DTEND;TZID=Europe/Paris:20260421T103000
DTSTAMP:20260421T133451
CREATED:20251209T134134Z
LAST-MODIFIED:20251209T134134Z
UID:2860-1776764700-1776767400@kasjogarden.se
SUMMARY:NatureWorkout Barnvagn
DESCRIPTION:En anpassad träning för både mammor och  pappor som vill träna med sina barn och även kunna ta med barnvagnen.
URL:https://kasjogarden.se/event/natureworkout-barnvagn-13/
ATTACH;FMTTYPE=image/jpeg:https://kasjogarden.se/wp-content/uploads/2025/12/Diagonalt_1-scaled.jpeg
END:VEVENT
BEGIN:VEVENT
DTSTART;TZID=Europe/Paris:20260421T110000
DTEND;TZID=Europe/Paris:20260421T133000
DTSTAMP:20260421T133451
CREATED:20251204T194202Z
LAST-MODIFIED:20260408T153148Z
UID:2619-1776769200-1776778200@kasjogarden.se
SUMMARY:Sopplunch
DESCRIPTION:Dagens: Peruansk köttfärssoppa  Dagens kaka: Choklad & cocoskaka. Välkomna till en god och värmande soppa i trevlig gemenskap. Utöver soppa ingår bröd\, färskost\, kaffe\, kaka och skratt! Pris 80 kr.
URL:https://kasjogarden.se/event/sopplunch-51/
ATTACH;FMTTYPE=image/jpeg:https://kasjogarden.se/wp-content/uploads/2022/06/Sopplunch_1.jpg
END:VEVENT
BEGIN:VEVENT
DTSTART;TZID=Europe/Paris:20260421T110000
DTEND;TZID=Europe/Paris:20260421T133000
DTSTAMP:20260421T133451
CREATED:20251212T134836Z
LAST-MODIFIED:20251212T135629Z
UID:2906-1776769200-1776778200@kasjogarden.se
SUMMARY:Närhälsan Öjersjö vårdcentral
DESCRIPTION:Mottagning för medicinska frågor på Mötesplats Kåsjögården; Läkare och distriktssköterska på plats.
URL:https://kasjogarden.se/event/narhalsan-ojersjo-vardcentral-4/
ATTACH;FMTTYPE=image/png:https://kasjogarden.se/wp-content/uploads/2025/12/Narhalsan.png
END:VEVENT
END:VCALENDAR